BEGIN:VCALENDAR
VERSION:2.0
PRODID:-//The Original Mother&#039;s - Chicago Bar and Night Club - ECPv6.0.12//NONSGML v1.0//EN
CALSCALE:GREGORIAN
METHOD:PUBLISH
X-WR-CALNAME:The Original Mother&#039;s - Chicago Bar and Night Club
X-ORIGINAL-URL:https://originalmothers.com
X-WR-CALDESC:Events for The Original Mother&#039;s - Chicago Bar and Night Club
REFRESH-INTERVAL;VALUE=DURATION:PT1H
X-Robots-Tag:noindex
X-PUBLISHED-TTL:PT1H
BEGIN:VTIMEZONE
TZID:America/Chicago
BEGIN:DAYLIGHT
TZOFFSETFROM:-0600
TZOFFSETTO:-0500
TZNAME:CDT
DTSTART:20230312T080000
END:DAYLIGHT
BEGIN:STANDARD
TZOFFSETFROM:-0500
TZOFFSETTO:-0600
TZNAME:CST
DTSTART:20231105T070000
END:STANDARD
END:VTIMEZONE
BEGIN:VEVENT
DTSTART;TZID=America/Chicago:20230504T210000
DTEND;TZID=America/Chicago:20230505T010000
DTSTAMP:20260424T143342
CREATED:20230407T185839Z
LAST-MODIFIED:20230407T185914Z
UID:2442-1683234000-1683248400@originalmothers.com
SUMMARY:Robert Deason\, Emily Popli & Dionte Skinner
DESCRIPTION:
URL:https://originalmothers.com/event/robert-deason-emily-popli-dionte-skinner/
END:VEVENT
BEGIN:VEVENT
DTSTART;TZID=America/Chicago:20230505T220000
DTEND;TZID=America/Chicago:20230506T020000
DTSTAMP:20260424T143342
CREATED:20230407T190525Z
LAST-MODIFIED:20230407T190525Z
UID:2445-1683324000-1683338400@originalmothers.com
SUMMARY:Duncan Parker\, Kaleen Dolan & Danny Pas
DESCRIPTION:
URL:https://originalmothers.com/event/duncan-parker-kaleen-dolan-danny-pas/
END:VEVENT
BEGIN:VEVENT
DTSTART;TZID=America/Chicago:20230506T220000
DTEND;TZID=America/Chicago:20230507T020000
DTSTAMP:20260424T143342
CREATED:20230407T190630Z
LAST-MODIFIED:20230407T190630Z
UID:2447-1683410400-1683424800@originalmothers.com
SUMMARY:Kaleen Dolan\, Hysien Govan & Danny Pas
DESCRIPTION:
URL:https://originalmothers.com/event/kaleen-dolan-hysien-govan-danny-pas/
END:VEVENT
BEGIN:VEVENT
DTSTART;TZID=America/Chicago:20230511T210000
DTEND;TZID=America/Chicago:20230512T010000
DTSTAMP:20260424T143342
CREATED:20230407T190727Z
LAST-MODIFIED:20230407T190727Z
UID:2449-1683838800-1683853200@originalmothers.com
SUMMARY:Robert Deason\, Bill Larkin & Dionte Skinner
DESCRIPTION:
URL:https://originalmothers.com/event/robert-deason-bill-larkin-dionte-skinner/
END:VEVENT
BEGIN:VEVENT
DTSTART;TZID=America/Chicago:20230512T220000
DTEND;TZID=America/Chicago:20230513T020000
DTSTAMP:20260424T143342
CREATED:20230407T190853Z
LAST-MODIFIED:20230407T190853Z
UID:2451-1683928800-1683943200@originalmothers.com
SUMMARY:Duncan Parker\, Hysien Govan & Colin OBrien
DESCRIPTION:
URL:https://originalmothers.com/event/duncan-parker-hysien-govan-colin-obrien/
END:VEVENT
BEGIN:VEVENT
DTSTART;TZID=America/Chicago:20230513T220000
DTEND;TZID=America/Chicago:20230514T020000
DTSTAMP:20260424T143342
CREATED:20230407T191039Z
LAST-MODIFIED:20230407T191039Z
UID:2453-1684015200-1684029600@originalmothers.com
SUMMARY:John Tashjian\, Hysien Govan & Colin OBrien
DESCRIPTION:
URL:https://originalmothers.com/event/john-tashjian-hysien-govan-colin-obrien/
END:VEVENT
BEGIN:VEVENT
DTSTART;TZID=America/Chicago:20230518T210000
DTEND;TZID=America/Chicago:20230519T010000
DTSTAMP:20260424T143342
CREATED:20230407T191307Z
LAST-MODIFIED:20230407T191307Z
UID:2455-1684443600-1684458000@originalmothers.com
SUMMARY:Robert Deason\, Emily Popli & Dionte Skinner
DESCRIPTION:
URL:https://originalmothers.com/event/robert-deason-emily-popli-dionte-skinner-2/
END:VEVENT
BEGIN:VEVENT
DTSTART;TZID=America/Chicago:20230519T220000
DTEND;TZID=America/Chicago:20230520T020000
DTSTAMP:20260424T143342
CREATED:20230407T191355Z
LAST-MODIFIED:20230407T191355Z
UID:2457-1684533600-1684548000@originalmothers.com
SUMMARY:Duncan Parker\, Kaleen Dolan & Darrel Cole
DESCRIPTION:
URL:https://originalmothers.com/event/duncan-parker-kaleen-dolan-darrel-cole/
END:VEVENT
BEGIN:VEVENT
DTSTART;TZID=America/Chicago:20230520T220000
DTEND;TZID=America/Chicago:20230521T020000
DTSTAMP:20260424T143342
CREATED:20230407T191442Z
LAST-MODIFIED:20230407T191442Z
UID:2461-1684620000-1684634400@originalmothers.com
SUMMARY:Kaleen Dolan\, Frank Blackman & Darrel Cole
DESCRIPTION:
URL:https://originalmothers.com/event/kaleen-dolan-frank-blackman-darrel-cole/
END:VEVENT
BEGIN:VEVENT
DTSTART;TZID=America/Chicago:20230525T210000
DTEND;TZID=America/Chicago:20230526T010000
DTSTAMP:20260424T143342
CREATED:20230407T191555Z
LAST-MODIFIED:20230407T191555Z
UID:2464-1685048400-1685062800@originalmothers.com
SUMMARY:Bill Larkin\, Emily Popli & Dionte Skinner
DESCRIPTION:
URL:https://originalmothers.com/event/bill-larkin-emily-popli-dionte-skinner/
END:VEVENT
BEGIN:VEVENT
DTSTART;TZID=America/Chicago:20230526T220000
DTEND;TZID=America/Chicago:20230527T020000
DTSTAMP:20260424T143342
CREATED:20230407T191634Z
LAST-MODIFIED:20230407T191634Z
UID:2466-1685138400-1685152800@originalmothers.com
SUMMARY:John Tashjian\, Kaleen Dolan & Dionte Skinner
DESCRIPTION:
URL:https://originalmothers.com/event/john-tashjian-kaleen-dolan-dionte-skinner/
END:VEVENT
BEGIN:VEVENT
DTSTART;TZID=America/Chicago:20230527T220000
DTEND;TZID=America/Chicago:20230528T020000
DTSTAMP:20260424T143342
CREATED:20230407T191720Z
LAST-MODIFIED:20230407T191720Z
UID:2468-1685224800-1685239200@originalmothers.com
SUMMARY:John Tashjian\, Kaleen Dolan & Dionte Skinner
DESCRIPTION:
URL:https://originalmothers.com/event/john-tashjian-kaleen-dolan-dionte-skinner-2/
END:VEVENT
END:VCALENDAR