BEGIN:VCALENDAR
VERSION:2.0
PRODID:-//The Original Mother&#039;s - Chicago Bar and Night Club - ECPv6.0.12//NONSGML v1.0//EN
CALSCALE:GREGORIAN
METHOD:PUBLISH
X-WR-CALNAME:The Original Mother&#039;s - Chicago Bar and Night Club
X-ORIGINAL-URL:https://originalmothers.com
X-WR-CALDESC:Events for The Original Mother&#039;s - Chicago Bar and Night Club
REFRESH-INTERVAL;VALUE=DURATION:PT1H
X-Robots-Tag:noindex
X-PUBLISHED-TTL:PT1H
BEGIN:VTIMEZONE
TZID:America/Chicago
BEGIN:DAYLIGHT
TZOFFSETFROM:-0600
TZOFFSETTO:-0500
TZNAME:CDT
DTSTART:20230312T080000
END:DAYLIGHT
BEGIN:STANDARD
TZOFFSETFROM:-0500
TZOFFSETTO:-0600
TZNAME:CST
DTSTART:20231105T070000
END:STANDARD
END:VTIMEZONE
BEGIN:VEVENT
DTSTART;TZID=America/Chicago:20230601T220000
DTEND;TZID=America/Chicago:20230602T010000
DTSTAMP:20260424T131201
CREATED:20230407T191908Z
LAST-MODIFIED:20230407T191908Z
UID:2470-1685656800-1685667600@originalmothers.com
SUMMARY:Robert Deason\, Emily Popli & Dionte Skinner
DESCRIPTION:
URL:https://originalmothers.com/event/robert-deason-emily-popli-dionte-skinner-3/
END:VEVENT
BEGIN:VEVENT
DTSTART;TZID=America/Chicago:20230602T220000
DTEND;TZID=America/Chicago:20230603T020000
DTSTAMP:20260424T131201
CREATED:20230407T191953Z
LAST-MODIFIED:20230407T191953Z
UID:2473-1685743200-1685757600@originalmothers.com
SUMMARY:Kaleen Dolan\, Frank Blackman & Darrell Cole
DESCRIPTION:
URL:https://originalmothers.com/event/kaleen-dolan-frank-blackman-darrell-cole/
END:VEVENT
BEGIN:VEVENT
DTSTART;TZID=America/Chicago:20230603T220000
DTEND;TZID=America/Chicago:20230604T020000
DTSTAMP:20260424T131201
CREATED:20230407T192035Z
LAST-MODIFIED:20230407T192035Z
UID:2475-1685829600-1685844000@originalmothers.com
SUMMARY:Emily Popli\, Hysien Govan & Darrell Cole
DESCRIPTION:
URL:https://originalmothers.com/event/emily-popli-hysien-govan-darrell-cole/
END:VEVENT
BEGIN:VEVENT
DTSTART;TZID=America/Chicago:20230608T210000
DTEND;TZID=America/Chicago:20230609T010000
DTSTAMP:20260424T131201
CREATED:20230407T192124Z
LAST-MODIFIED:20230530T173413Z
UID:2477-1686258000-1686272400@originalmothers.com
SUMMARY:John Tashjian\, Emily Popli & Dionte Skinner
DESCRIPTION:
URL:https://originalmothers.com/event/robert-deason-emily-popli-dionte-skinner-4/
END:VEVENT
BEGIN:VEVENT
DTSTART;TZID=America/Chicago:20230609T220000
DTEND;TZID=America/Chicago:20230610T020000
DTSTAMP:20260424T131201
CREATED:20230407T192229Z
LAST-MODIFIED:20230407T192229Z
UID:2479-1686348000-1686362400@originalmothers.com
SUMMARY:Kaleen Dolan\, John Tashjian & Dionte Skinner
DESCRIPTION:
URL:https://originalmothers.com/event/kaleen-dolan-john-tashjian-dionte-skinner/
END:VEVENT
BEGIN:VEVENT
DTSTART;TZID=America/Chicago:20230610T220000
DTEND;TZID=America/Chicago:20230611T020000
DTSTAMP:20260424T131201
CREATED:20230407T192318Z
LAST-MODIFIED:20230530T173631Z
UID:2481-1686434400-1686448800@originalmothers.com
SUMMARY:Frank Blackman\, Emily Popli & Dionte Skinner
DESCRIPTION:
URL:https://originalmothers.com/event/hysien-govan-emily-popli-dionte-skinner/
END:VEVENT
BEGIN:VEVENT
DTSTART;TZID=America/Chicago:20230615T210000
DTEND;TZID=America/Chicago:20230616T010000
DTSTAMP:20260424T131201
CREATED:20230407T192414Z
LAST-MODIFIED:20230530T173848Z
UID:2484-1686862800-1686877200@originalmothers.com
SUMMARY:Duncan Parker\, Emily Popli & Dionte Skinner
DESCRIPTION:
URL:https://originalmothers.com/event/robert-deason-emily-popli-dionte-skinner-5/
END:VEVENT
BEGIN:VEVENT
DTSTART;TZID=America/Chicago:20230616T220000
DTEND;TZID=America/Chicago:20230617T020000
DTSTAMP:20260424T131201
CREATED:20230407T192501Z
LAST-MODIFIED:20230530T175415Z
UID:2486-1686952800-1686967200@originalmothers.com
SUMMARY:Joel Norman\, Ashleigh Pike & Colin O'Brien
DESCRIPTION:
URL:https://originalmothers.com/event/duncan-parker-ashleigh-pike-colin-obrien/
END:VEVENT
BEGIN:VEVENT
DTSTART;TZID=America/Chicago:20230617T220000
DTEND;TZID=America/Chicago:20230618T020000
DTSTAMP:20260424T131201
CREATED:20230407T192558Z
LAST-MODIFIED:20230530T175620Z
UID:2488-1687039200-1687053600@originalmothers.com
SUMMARY:Kaleen Dolan\, Duncan Parker & Darrell Cole
DESCRIPTION:
URL:https://originalmothers.com/event/kaleen-dolan-duncan-parker-hysien-govan/
END:VEVENT
BEGIN:VEVENT
DTSTART;TZID=America/Chicago:20230622T210000
DTEND;TZID=America/Chicago:20230623T010000
DTSTAMP:20260424T131201
CREATED:20230407T192728Z
LAST-MODIFIED:20230530T175913Z
UID:2491-1687467600-1687482000@originalmothers.com
SUMMARY:John Tashjian\, Emily Popli & Dionte Skinner
DESCRIPTION:
URL:https://originalmothers.com/event/robert-deason-emily-popli-dionte-skinner-6/
END:VEVENT
BEGIN:VEVENT
DTSTART;TZID=America/Chicago:20230623T220000
DTEND;TZID=America/Chicago:20230624T020000
DTSTAMP:20260424T131201
CREATED:20230407T192825Z
LAST-MODIFIED:20230530T180239Z
UID:2493-1687557600-1687572000@originalmothers.com
SUMMARY:Kaleen Dolan\, John Tashjian & Darrell Cole
DESCRIPTION:
URL:https://originalmothers.com/event/kaleen-dolan-john-tashjian-hysein-govan/
END:VEVENT
BEGIN:VEVENT
DTSTART;TZID=America/Chicago:20230624T220000
DTEND;TZID=America/Chicago:20230625T020000
DTSTAMP:20260424T131201
CREATED:20230407T192922Z
LAST-MODIFIED:20230530T180336Z
UID:2495-1687644000-1687658400@originalmothers.com
SUMMARY:Kaleen Dolan\, Hysein Govan & Darrell Cole
DESCRIPTION:
URL:https://originalmothers.com/event/kaleen-dolan-hysein-govan-dionte-skinner/
END:VEVENT
BEGIN:VEVENT
DTSTART;TZID=America/Chicago:20230629T210000
DTEND;TZID=America/Chicago:20230630T010000
DTSTAMP:20260424T131201
CREATED:20230407T193020Z
LAST-MODIFIED:20230407T193020Z
UID:2497-1688072400-1688086800@originalmothers.com
SUMMARY:Robert Deason\, Emily Popli & Dionte Skinner
DESCRIPTION:
URL:https://originalmothers.com/event/robert-deason-emily-popli-dionte-skinner-7/
END:VEVENT
BEGIN:VEVENT
DTSTART;TZID=America/Chicago:20230630T220000
DTEND;TZID=America/Chicago:20230701T020000
DTSTAMP:20260424T131201
CREATED:20230407T193107Z
LAST-MODIFIED:20230530T180624Z
UID:2500-1688162400-1688176800@originalmothers.com
SUMMARY:Jim Gritschke\, Kaleen Dolan & Darrell Cole
DESCRIPTION:
URL:https://originalmothers.com/event/duncan-parker-kaleen-dolan-darrell-cole/
END:VEVENT
END:VCALENDAR