BEGIN:VCALENDAR
VERSION:2.0
PRODID:-//The Original Mother&#039;s - Chicago Bar and Night Club - ECPv6.0.12//NONSGML v1.0//EN
CALSCALE:GREGORIAN
METHOD:PUBLISH
X-ORIGINAL-URL:https://originalmothers.com
X-WR-CALDESC:Events for The Original Mother&#039;s - Chicago Bar and Night Club
REFRESH-INTERVAL;VALUE=DURATION:PT1H
X-Robots-Tag:noindex
X-PUBLISHED-TTL:PT1H
BEGIN:VTIMEZONE
TZID:America/Chicago
BEGIN:DAYLIGHT
TZOFFSETFROM:-0600
TZOFFSETTO:-0500
TZNAME:CDT
DTSTART:20230312T080000
END:DAYLIGHT
BEGIN:STANDARD
TZOFFSETFROM:-0500
TZOFFSETTO:-0600
TZNAME:CST
DTSTART:20231105T070000
END:STANDARD
END:VTIMEZONE
BEGIN:VEVENT
DTSTART;TZID=America/Chicago:20230701T220000
DTEND;TZID=America/Chicago:20230702T020000
DTSTAMP:20260424T114414
CREATED:20230407T193157Z
LAST-MODIFIED:20230530T180715Z
UID:2503-1688248800-1688263200@originalmothers.com
SUMMARY:Emily Popli\, Eric Ronquillo & Darrell Cole
DESCRIPTION:
URL:https://originalmothers.com/event/emily-popli-hysien-govan-darrell-cole-2/
END:VEVENT
BEGIN:VEVENT
DTSTART;TZID=America/Chicago:20230706T210000
DTEND;TZID=America/Chicago:20230707T010000
DTSTAMP:20260424T114414
CREATED:20230530T181632Z
LAST-MODIFIED:20230530T181632Z
UID:2518-1688677200-1688691600@originalmothers.com
SUMMARY:Robert Deason\, Emily Popli\, & Dionte Skinner
DESCRIPTION:
URL:https://originalmothers.com/event/robert-deason-emily-popli-dionte-skinner-8/
END:VEVENT
BEGIN:VEVENT
DTSTART;TZID=America/Chicago:20230707T220000
DTEND;TZID=America/Chicago:20230708T020000
DTSTAMP:20260424T114414
CREATED:20230530T181834Z
LAST-MODIFIED:20230530T181834Z
UID:2520-1688767200-1688781600@originalmothers.com
SUMMARY:Duncan Parker\, Kaleen Dolan\, & Danny Pas
DESCRIPTION:Dun
URL:https://originalmothers.com/event/duncan-parker-kaleen-dolan-danny-pas-2/
END:VEVENT
BEGIN:VEVENT
DTSTART;TZID=America/Chicago:20230708T220000
DTEND;TZID=America/Chicago:20230709T020000
DTSTAMP:20260424T114414
CREATED:20230530T182003Z
LAST-MODIFIED:20230530T182003Z
UID:2522-1688853600-1688868000@originalmothers.com
SUMMARY:Elisa Carlson\, Kaleen Dolan & Danny Pas
DESCRIPTION:
URL:https://originalmothers.com/event/elisa-carlson-kaleen-dolan-danny-pas/
END:VEVENT
BEGIN:VEVENT
DTSTART;TZID=America/Chicago:20230713T210000
DTEND;TZID=America/Chicago:20230714T010000
DTSTAMP:20260424T114414
CREATED:20230530T182422Z
LAST-MODIFIED:20230530T182422Z
UID:2524-1689282000-1689296400@originalmothers.com
SUMMARY:Robert Deason\, Emily Popli\, & Dionte Skinner
DESCRIPTION:
URL:https://originalmothers.com/event/robert-deason-emily-popli-dionte-skinner-9/
END:VEVENT
BEGIN:VEVENT
DTSTART;TZID=America/Chicago:20230714T220000
DTEND;TZID=America/Chicago:20230715T020000
DTSTAMP:20260424T114414
CREATED:20230530T182841Z
LAST-MODIFIED:20230707T192859Z
UID:2526-1689372000-1689386400@originalmothers.com
SUMMARY:John Tashjian\, Frank Blackman\, & Darrell Cole
DESCRIPTION:
URL:https://originalmothers.com/event/john-tashjian-kaleen-dolan-darrell-cole/
END:VEVENT
BEGIN:VEVENT
DTSTART;TZID=America/Chicago:20230715T220000
DTEND;TZID=America/Chicago:20230716T020000
DTSTAMP:20260424T114414
CREATED:20230530T182943Z
LAST-MODIFIED:20230707T161913Z
UID:2528-1689458400-1689472800@originalmothers.com
SUMMARY:Emily Popli\, Kaleen Dolan\, & Darrell Cole
DESCRIPTION:
URL:https://originalmothers.com/event/josh-tashjian-kaleen-dolan-darrell-cole/
END:VEVENT
BEGIN:VEVENT
DTSTART;TZID=America/Chicago:20230720T210000
DTEND;TZID=America/Chicago:20230721T010000
DTSTAMP:20260424T114414
CREATED:20230530T183055Z
LAST-MODIFIED:20230628T181849Z
UID:2530-1689886800-1689901200@originalmothers.com
SUMMARY:Hysein Govan\, Emily Popli\, & Dionte Skinner
DESCRIPTION:
URL:https://originalmothers.com/event/robert-deason-emily-popli-dionte-skinner-10/
END:VEVENT
BEGIN:VEVENT
DTSTART;TZID=America/Chicago:20230721T220000
DTEND;TZID=America/Chicago:20230722T020000
DTSTAMP:20260424T114414
CREATED:20230530T183239Z
LAST-MODIFIED:20230628T181916Z
UID:2532-1689976800-1689991200@originalmothers.com
SUMMARY:Duncan Parker\, Emily Popli\, & Colin O'Brien
DESCRIPTION:
URL:https://originalmothers.com/event/duncan-parker-kaleen-dolan-colin-obrien/
END:VEVENT
BEGIN:VEVENT
DTSTART;TZID=America/Chicago:20230722T220000
DTEND;TZID=America/Chicago:20230723T020000
DTSTAMP:20260424T114414
CREATED:20230530T183407Z
LAST-MODIFIED:20230530T183407Z
UID:2534-1690063200-1690077600@originalmothers.com
SUMMARY:Kaleen Dolan\, Frank Blackman\, & Colin O'Brien
DESCRIPTION:
URL:https://originalmothers.com/event/kaleen-dolan-frank-blackman-colin-obrien/
END:VEVENT
BEGIN:VEVENT
DTSTART;TZID=America/Chicago:20230727T210000
DTEND;TZID=America/Chicago:20230728T010000
DTSTAMP:20260424T114414
CREATED:20230530T184248Z
LAST-MODIFIED:20230628T182025Z
UID:2536-1690491600-1690506000@originalmothers.com
SUMMARY:Duncan Parker\, Emily Popli\, & Pete Tashjian
DESCRIPTION:
URL:https://originalmothers.com/event/robert-deason-emily-popli-dionte-skinner-11/
END:VEVENT
BEGIN:VEVENT
DTSTART;TZID=America/Chicago:20230728T220000
DTEND;TZID=America/Chicago:20230729T020000
DTSTAMP:20260424T114414
CREATED:20230530T184616Z
LAST-MODIFIED:20230530T184616Z
UID:2538-1690581600-1690596000@originalmothers.com
SUMMARY:John Tashjian\, Kaleen Dolan\, & Dionte Skinner
DESCRIPTION:
URL:https://originalmothers.com/event/john-tashjian-kaleen-dolan-dionte-skinner-3/
END:VEVENT
BEGIN:VEVENT
DTSTART;TZID=America/Chicago:20230729T220000
DTEND;TZID=America/Chicago:20230730T020000
DTSTAMP:20260424T114414
CREATED:20230530T184717Z
LAST-MODIFIED:20230628T182125Z
UID:2540-1690668000-1690682400@originalmothers.com
SUMMARY:Emily Popli\, Frank Blackman\, & Hysien Govan
DESCRIPTION:E
URL:https://originalmothers.com/event/emily-popli-frank-blackman-dionte-skinner/
END:VEVENT
END:VCALENDAR